BEGIN:VCALENDAR
VERSION:2.0
PRODID:-//DAWN - Domestic Abuse Women&#039;s Network - ECPv6.15.20//NONSGML v1.0//EN
CALSCALE:GREGORIAN
METHOD:PUBLISH
X-WR-CALNAME:DAWN - Domestic Abuse Women&#039;s Network
X-ORIGINAL-URL:https://dawnrising.org
X-WR-CALDESC:Events for DAWN - Domestic Abuse Women&#039;s Network
REFRESH-INTERVAL;VALUE=DURATION:PT1H
X-Robots-Tag:noindex
X-PUBLISHED-TTL:PT1H
BEGIN:VTIMEZONE
TZID:America/Los_Angeles
BEGIN:DAYLIGHT
TZOFFSETFROM:-0800
TZOFFSETTO:-0700
TZNAME:PDT
DTSTART:20240310T100000
END:DAYLIGHT
BEGIN:STANDARD
TZOFFSETFROM:-0700
TZOFFSETTO:-0800
TZNAME:PST
DTSTART:20241103T090000
END:STANDARD
BEGIN:DAYLIGHT
TZOFFSETFROM:-0800
TZOFFSETTO:-0700
TZNAME:PDT
DTSTART:20250309T100000
END:DAYLIGHT
BEGIN:STANDARD
TZOFFSETFROM:-0700
TZOFFSETTO:-0800
TZNAME:PST
DTSTART:20251102T090000
END:STANDARD
BEGIN:DAYLIGHT
TZOFFSETFROM:-0800
TZOFFSETTO:-0700
TZNAME:PDT
DTSTART:20260308T100000
END:DAYLIGHT
BEGIN:STANDARD
TZOFFSETFROM:-0700
TZOFFSETTO:-0800
TZNAME:PST
DTSTART:20261101T090000
END:STANDARD
BEGIN:DAYLIGHT
TZOFFSETFROM:-0800
TZOFFSETTO:-0700
TZNAME:PDT
DTSTART:20270314T100000
END:DAYLIGHT
BEGIN:STANDARD
TZOFFSETFROM:-0700
TZOFFSETTO:-0800
TZNAME:PST
DTSTART:20271107T090000
END:STANDARD
END:VTIMEZONE
BEGIN:VEVENT
DTSTART;VALUE=DATE:20251013
DTEND;VALUE=DATE:20251020
DTSTAMP:20260425T205918
CREATED:20251103T193001Z
LAST-MODIFIED:20251103T193001Z
UID:257119-1760313600-1760918399@dawnrising.org
SUMMARY:Johnny Rockets - 20% of Sales
DESCRIPTION:20% of sales from self-identifying Dawn supporters the third week of the month from October through March 2026
URL:https://dawnrising.org/event-calendar/johnny-rockets-20-of-sales/
LOCATION:Johnny Rockets Kent\, 418 Ramsay Way\, Kent\, WA\, 98032\, United States
CATEGORIES:Purple Light Nights
END:VEVENT
BEGIN:VEVENT
DTSTART;TZID=America/Los_Angeles:20251028T170000
DTEND;TZID=America/Los_Angeles:20251028T180000
DTSTAMP:20260425T205918
CREATED:20250905T182132Z
LAST-MODIFIED:20250905T182132Z
UID:256859-1761670800-1761674400@dawnrising.org
SUMMARY:DAWN Tour
DESCRIPTION:A Vision for Peace and Safety is a free 1-hour interactive tour and presentation where you will learn how to help families and individuals facing domestic violence to move from danger to safety and thrive. Light refreshments & beverages served. \nMake a reservation: Call 206-469-9510 or email development@dawnrising.org \nLocation: DAWN Center for Peaceful Communities 221 W. Gowe Street\, Kent\, WA 98032 \nAdditional Upcoming Dates\nNov 20\, 5pm\nDec 11\, 10am\nJan 27\, 5pm
URL:https://dawnrising.org/event-calendar/dawn-tour-oct-2025/
LOCATION:DAWN\, 221 W Gowe Street\, Kent\, WA\, 98035\, United States
CATEGORIES:DAWN
END:VEVENT
BEGIN:VEVENT
DTSTART;TZID=America/Los_Angeles:20251106T100000
DTEND;TZID=America/Los_Angeles:20251106T110000
DTSTAMP:20260425T205918
CREATED:20250829T174421Z
LAST-MODIFIED:20251021T214249Z
UID:256832-1762423200-1762426800@dawnrising.org
SUMMARY:Thank You/Reception Drawing for the Maui Trip
DESCRIPTION:Thank you/Reception Drawing for the Maui Trip (The Cliffs and two tickets on Alaska Airlines) from the In Her Shoes™ interactive activity \nhttps://www.eventbrite.com/e/dawn-purple-light-nights-wrap-party-reception-tickets-1824625837999
URL:https://dawnrising.org/event-calendar/thank-you-reception-drawing-for-the-maui-trip/
LOCATION:DAWN\, 221 W Gowe Street\, Kent\, WA\, 98035\, United States
CATEGORIES:Purple Light Nights
END:VEVENT
BEGIN:VEVENT
DTSTART;TZID=America/Los_Angeles:20251114T190500
DTEND;TZID=America/Los_Angeles:20251114T190500
DTSTAMP:20260425T205918
CREATED:20250829T174110Z
LAST-MODIFIED:20250922T223725Z
UID:256828-1763147100-1763147100@dawnrising.org
SUMMARY:Seattle Thunderbirds Fundraiser Game
DESCRIPTION:Do good and have fun! Join DAWN friends at the ShoWare Center as the Seattle Thunderbirds take on the Prince Albert Raiders. Your ticket purchase directly benefits survivors and helps prevent domestic violence in our community. \nBuy your tickets for the 11/14  Game. 7:05 start time\n-Tickets on sale $32 (normally $41.95)\n-$10 of each ticket benefits DAWN. \nTickets may be purchased from participating Kent Station businesses\, at Kent Station’s Office\, and at DAWN. \nLink to purchase: https://bit.ly/dawnthunderbird
URL:https://dawnrising.org/event-calendar/seattle-thunderbirds-fundraiser/
LOCATION:ShoWare Center\, 625 W James St\, Kent\, WA\, 98032\, United States
CATEGORIES:DAWN
END:VEVENT
BEGIN:VEVENT
DTSTART;VALUE=DATE:20251117
DTEND;VALUE=DATE:20251124
DTSTAMP:20260425T205918
CREATED:20251103T193145Z
LAST-MODIFIED:20251103T193145Z
UID:257122-1763337600-1763942399@dawnrising.org
SUMMARY:Johnny Rockets - 20% of Sales
DESCRIPTION:20% of sales from self-identifying Dawn supporters the third week of the month from October through March 2026
URL:https://dawnrising.org/event-calendar/johnny-rockets-20-of-sales-nov/
LOCATION:Johnny Rockets Kent\, 418 Ramsay Way\, Kent\, WA\, 98032\, United States
CATEGORIES:Purple Light Nights
END:VEVENT
BEGIN:VEVENT
DTSTART;VALUE=DATE:20251202
DTEND;VALUE=DATE:20251203
DTSTAMP:20260425T205918
CREATED:20251111T012932Z
LAST-MODIFIED:20251113T201630Z
UID:257142-1764633600-1764719999@dawnrising.org
SUMMARY:#GivingTuesday
DESCRIPTION:This GivingTuesday\,DAWN will inspire radical generosity by engaging with our community to help shelter over 100 women and children who are survivors of domestic violence in 2026. \nGivingTuesday is a global generosity movement\, unleashing the power of people and organizations to transform their communities and their world. GivingTuesday will kick off giving season this year by inspiring people to give back on the first Tuesday after Thanksgiving\, December 2\, 2025\, and throughout the year. \nDAWN – Domestic Abuse Women’s Network – with support from “DAWN’s Angels” and community partners\, is inviting the community to celebrate radical generosity in the following ways: \n\nBrighten a survivor’s holidays. Bring a new\, unwrapped holiday toy for a child survivor\, or new unwrapped gift for a parent survivor or single woman to DAWN between 11 AM and 2 PM on December 2nd (or before). Gifts will be organized by DAWN volunteers and team members in DAWN’s “Winter Marketplace\,” where registered DAWN clients will shop for their winter and holiday needs on December 10.\nInvest your time for change. Sign up to be a DAWN Volunteer at dawnrising.org/volunteer. Whether organizing Marketplace\, representing DAWN in the community\, helping at DAWN’s May It Forward fundraiser on May 2\, 2026\, at a Purple Light Nights ® event in September or October\, serving on the DAWN Board of Directors\, or hosting a fundraiser in  your home during the holidays\, DAWN volunteers make a big impact by supporting DAWN with their time.\nDine for impact. Enjoy delicious meals on December 2nd at Mama Stortini’s in Kent Station\, which is generously donating ten percent of sales on Giving Tuesday to support DAWN’s programs helping survivors of domestic violence to find safety.\nShop and support survivors. Join DAWN team members on December 2nd from 4-7 PM tor a Survivor Art Show/Silent Auction at Mama Stortini’s. Learn more about DAWN’s work\, meet DAWN’s Executive Director Gina Finley\, and bid on survivor art and gifts for yourself or special people in your life while supporting survivors.\nDouble your donation. Make a #GivingTuesday gift on December 2nd to DAWN at dawnrising.org. Gifts will be doubled by “DAWN’s Angels” who have contributed to a #GivingTuesday Matching Fund that will match each gift of $100 or more\, until the challenge fund is completely used.\nMake it a win for all. One lucky donor who makes a #GivingTuesday gift to DAWN will win a  gift certificate for dinner for two valued at $250 sponsored by Duke’s Restaurants.\n\n  \n“This month about 500 people will call DAWN for help and information because they are facing challenges and violence in their intimate relationships\,” stated Christine Rose\, Development Director at DAWN. “If it weren’t for the generosity of our community\, DAWN wouldn’t be able to help them with advocacy\, support and shelter. DAWN friends and supporters make a tremendous contribution to save lives and help survivors create positive\, thriving futures for themselves and their children.” \n#GivingTuesday was launched in 2012 as a simple idea: To create a day that encourages people to do good. Over the past thirteen years\, this idea has grown into a global movement that inspires hundreds of millions of people to give\, collaborate\, and celebrate generosity. \nOne in four women and one in seven men have experienced severe physical violence by an intimate partner. Since1980 DAWN stands with all survivors of domestic abuse\, helps them rebuild their lives\, and strives to make our communities safer by preventing and addressing violence through education and advocacy. DAWN is a 50lc3 charitable organization\, Tax ID# 91-1176122. For more information or to register for events\, visit www.dawnrising.org. \n 
URL:https://dawnrising.org/event-calendar/givingtuesday/
LOCATION:WA
CATEGORIES:DAWN
END:VEVENT
BEGIN:VEVENT
DTSTART;TZID=America/Los_Angeles:20251202T110000
DTEND;TZID=America/Los_Angeles:20251202T130000
DTSTAMP:20260425T205918
CREATED:20251111T013331Z
LAST-MODIFIED:20251111T013331Z
UID:257144-1764673200-1764680400@dawnrising.org
SUMMARY:Giving Tuesday Holiday Gift Drive Dropoff at DAWN
DESCRIPTION:Giving Tuesday Holiday Gift Drive Dropoff at DAWN from 11am to 1pm.\n \nParticipate in radical generosity! Help DAWN shelter over 100 domestic violence survivors in 2026. 
URL:https://dawnrising.org/event-calendar/giving-tuesday-holiday-gift-drive-dropoff-at-dawn/
LOCATION:DAWN\, 221 W Gowe Street\, Kent\, WA\, 98035\, United States
CATEGORIES:DAWN
END:VEVENT
BEGIN:VEVENT
DTSTART;TZID=America/Los_Angeles:20251202T160000
DTEND;TZID=America/Los_Angeles:20251202T190000
DTSTAMP:20260425T205918
CREATED:20251103T192509Z
LAST-MODIFIED:20251111T012659Z
UID:257117-1764691200-1764702000@dawnrising.org
SUMMARY:Survivor Art Show & Dinner
DESCRIPTION:Mama Stortini’s is hosting a #Giving Tuesday Survivor Art Show & Dinner December 2nd from 4-7pm\, with 10% of business ALL DAY at Mama Stortini’s going to support DAWN’s programs. Come shop and enjoy a meal with us on #Giving Tuesday!
URL:https://dawnrising.org/event-calendar/survivor-art-show-dinner/
LOCATION:Mama Stortini’s Kent\, 240 W Kent Station St #104\, Kent\, WA\, 98032\, United States
CATEGORIES:Purple Light Nights
END:VEVENT
BEGIN:VEVENT
DTSTART;VALUE=DATE:20251215
DTEND;VALUE=DATE:20251222
DTSTAMP:20260425T205918
CREATED:20251103T193256Z
LAST-MODIFIED:20251103T193256Z
UID:257124-1765756800-1766361599@dawnrising.org
SUMMARY:Johnny Rockets - 20% of Sales
DESCRIPTION:20% of sales from self-identifying Dawn supporters the third week of the month from October through March 2026
URL:https://dawnrising.org/event-calendar/johnny-rockets-20-of-sales-dec/
LOCATION:Johnny Rockets Kent\, 418 Ramsay Way\, Kent\, WA\, 98032\, United States
CATEGORIES:Purple Light Nights
END:VEVENT
BEGIN:VEVENT
DTSTART;VALUE=DATE:20260112
DTEND;VALUE=DATE:20260119
DTSTAMP:20260425T205918
CREATED:20251103T193357Z
LAST-MODIFIED:20251103T193357Z
UID:257126-1768176000-1768780799@dawnrising.org
SUMMARY:Johnny Rockets - 20% of Sales
DESCRIPTION:20% of sales from self-identifying Dawn supporters the third week of the month from October through March 2026
URL:https://dawnrising.org/event-calendar/johnny-rockets-20-of-sales-jan/
LOCATION:Johnny Rockets Kent\, 418 Ramsay Way\, Kent\, WA\, 98032\, United States
CATEGORIES:Purple Light Nights
END:VEVENT
BEGIN:VEVENT
DTSTART;TZID=America/Los_Angeles:20260127T170000
DTEND;TZID=America/Los_Angeles:20260127T180000
DTSTAMP:20260425T205918
CREATED:20250904T193013Z
LAST-MODIFIED:20250904T193032Z
UID:256868-1769533200-1769536800@dawnrising.org
SUMMARY:DAWN Tour
DESCRIPTION:A Vision for Peace and Safety is a free 1-hour interactive tour and presentation where you will learn how to help families and individuals facing domestic violence to move from danger to safety and thrive. Light refreshments & beverages served. \nMake a reservation: Call 206-469-9510 or email development@dawnrising.org \nLocation: DAWN Center for Peaceful Communities 221 W. Gowe Street\, Kent\, WA 98032 \nAdditional Upcoming Dates\nJan 27\, 5pm
URL:https://dawnrising.org/event-calendar/dawn-tour-jan-2026/
LOCATION:DAWN\, 221 W Gowe Street\, Kent\, WA\, 98035\, United States
CATEGORIES:DAWN
END:VEVENT
BEGIN:VEVENT
DTSTART;VALUE=DATE:20260216
DTEND;VALUE=DATE:20260223
DTSTAMP:20260425T205918
CREATED:20251103T193505Z
LAST-MODIFIED:20251103T193523Z
UID:257128-1771200000-1771804799@dawnrising.org
SUMMARY:Johnny Rockets - 20% of Sales
DESCRIPTION:20% of sales from self-identifying Dawn supporters the third week of the month from October through March 2026
URL:https://dawnrising.org/event-calendar/johnny-rockets-20-of-sales-feb/
LOCATION:Johnny Rockets Kent\, 418 Ramsay Way\, Kent\, WA\, 98032\, United States
CATEGORIES:Purple Light Nights
END:VEVENT
BEGIN:VEVENT
DTSTART;VALUE=DATE:20260316
DTEND;VALUE=DATE:20260323
DTSTAMP:20260425T205918
CREATED:20251103T193621Z
LAST-MODIFIED:20251103T193621Z
UID:257130-1773619200-1774223999@dawnrising.org
SUMMARY:Johnny Rockets - 20% of Sales
DESCRIPTION:20% of sales from self-identifying Dawn supporters the third week of the month from October through March 2026
URL:https://dawnrising.org/event-calendar/johnny-rockets-20-of-sales-march/
LOCATION:Johnny Rockets Kent\, 418 Ramsay Way\, Kent\, WA\, 98032\, United States
CATEGORIES:Purple Light Nights
END:VEVENT
BEGIN:VEVENT
DTSTART;TZID=America/Los_Angeles:20260502T163000
DTEND;TZID=America/Los_Angeles:20260502T183000
DTSTAMP:20260425T205918
CREATED:20260225T213214Z
LAST-MODIFIED:20260225T213214Z
UID:257283-1777739400-1777746600@dawnrising.org
SUMMARY:May It Forward 2026
DESCRIPTION:Join us for DAWN’s annual spring happy hour fundraiser\, May It Forward\, supports survivors of domestic violence with shelter\, advocacy\, and essential services. \nThis inspiring event is designed to connect you directly with dedicated team members\, offering an intimate look at the lifesaving services and the critical work we do every day. Hear a powerful story directly from a survivor whose journey illuminates the strength and resilience gained with your support. \nEvent program includes: Mission Moment | Live Auction | Survivor Story Video | Raise the Paddle for Survivors
URL:https://dawnrising.org/event-calendar/may-it-forward-2026/
LOCATION:Renton Technical College Banquet Hall\, 3000 NE 4th St\, Renton\, WA\, 98056-4195\, United States
CATEGORIES:DAWN
END:VEVENT
END:VCALENDAR