BEGIN:VCALENDAR
VERSION:2.0
PRODID:-//DAWN - Domestic Abuse Women&#039;s Network - ECPv6.15.20//NONSGML v1.0//EN
CALSCALE:GREGORIAN
METHOD:PUBLISH
X-WR-CALNAME:DAWN - Domestic Abuse Women&#039;s Network
X-ORIGINAL-URL:https://dawnrising.org
X-WR-CALDESC:Events for DAWN - Domestic Abuse Women&#039;s Network
REFRESH-INTERVAL;VALUE=DURATION:PT1H
X-Robots-Tag:noindex
X-PUBLISHED-TTL:PT1H
BEGIN:VTIMEZONE
TZID:America/Los_Angeles
BEGIN:DAYLIGHT
TZOFFSETFROM:-0800
TZOFFSETTO:-0700
TZNAME:PDT
DTSTART:20240310T100000
END:DAYLIGHT
BEGIN:STANDARD
TZOFFSETFROM:-0700
TZOFFSETTO:-0800
TZNAME:PST
DTSTART:20241103T090000
END:STANDARD
BEGIN:DAYLIGHT
TZOFFSETFROM:-0800
TZOFFSETTO:-0700
TZNAME:PDT
DTSTART:20250309T100000
END:DAYLIGHT
BEGIN:STANDARD
TZOFFSETFROM:-0700
TZOFFSETTO:-0800
TZNAME:PST
DTSTART:20251102T090000
END:STANDARD
BEGIN:DAYLIGHT
TZOFFSETFROM:-0800
TZOFFSETTO:-0700
TZNAME:PDT
DTSTART:20260308T100000
END:DAYLIGHT
BEGIN:STANDARD
TZOFFSETFROM:-0700
TZOFFSETTO:-0800
TZNAME:PST
DTSTART:20261101T090000
END:STANDARD
END:VTIMEZONE
BEGIN:VEVENT
DTSTART;TZID=America/Los_Angeles:20250923T190000
DTEND;TZID=America/Los_Angeles:20250923T200000
DTSTAMP:20260425T210724
CREATED:20250824T233116Z
LAST-MODIFIED:20250922T224803Z
UID:256767-1758654000-1758657600@dawnrising.org
SUMMARY:Domestic Violence Awareness Month Proclamation
DESCRIPTION:Stand with us as the City of Covington officially proclaims October as Domestic Violence Awareness Month. Your presence shows survivors they’re not alone. \n9/23/25 Council Meeting: Domestic Violence Awareness Month Proclamation \nThe city council meeting will be held on Tuesday\, 9/23 at 7:00pm at Covington City Hall in Council Chambers (16720 SE 271st Street\, Suite 100\, Covington\, WA 98042). \nProclamations will be under the public communication section of the meeting agenda which is towards the beginning of the meeting.
URL:https://dawnrising.org/event-calendar/domestic-violence-awareness-month-proclamation/
LOCATION:Covington City Hall in Council Chambers\, 16720 SE 271st Street\, Suite 100\, Covington\, WA\, 98042\, United States
END:VEVENT
BEGIN:VEVENT
DTSTART;TZID=America/Los_Angeles:20250917T180000
DTEND;TZID=America/Los_Angeles:20250917T190000
DTSTAMP:20260425T210724
CREATED:20250829T171909Z
LAST-MODIFIED:20250829T171942Z
UID:256810-1758132000-1758135600@dawnrising.org
SUMMARY:Donor Advised Fun (DAF) Workshop
DESCRIPTION:Smart Giving Workshop\nUnderstanding Donor-Advised Funds (DAFs) \nTurn your charitable dollars into lasting impact by learning smarter giving strategies\, maximizing tax benefits\, and connecting with like-minded philanthropists. \nPlease RSVP – FREE EVENT \n \n 
URL:https://dawnrising.org/event-calendar/donor-advised-fun-daf-workshop/
LOCATION:Orion Learning Center\, 1590 A Street NE\, Auburn\, WA\, 98002\, United States
CATEGORIES:DAWN
END:VEVENT
BEGIN:VEVENT
DTSTART;VALUE=DATE:20250910
DTEND;VALUE=DATE:20250911
DTSTAMP:20260425T210724
CREATED:20250829T171157Z
LAST-MODIFIED:20250829T171157Z
UID:256807-1757462400-1757548799@dawnrising.org
SUMMARY:All Staff Retreat
DESCRIPTION:All Staff Retreat (annual team building and fun with TEAM DAWN) \nOffice Closed 9/10/2025
URL:https://dawnrising.org/event-calendar/all-staff-retreat/
LOCATION:DAWN\, 221 W Gowe Street\, Kent\, WA\, 98035\, United States
CATEGORIES:DAWN
END:VEVENT
BEGIN:VEVENT
DTSTART;TZID=America/Los_Angeles:20250828T173000
DTEND;TZID=America/Los_Angeles:20250828T190000
DTSTAMP:20260425T210724
CREATED:20250825T212435Z
LAST-MODIFIED:20250825T212448Z
UID:256801-1756402200-1756407600@dawnrising.org
SUMMARY:DAWN Board of Directors meeting
DESCRIPTION:4th Thursday every month\, DAWN Board of Directors meeting 5:30 – 7:00
URL:https://dawnrising.org/event-calendar/dawn-board-of-directors-meeting/
LOCATION:DAWN\, 221 W Gowe Street\, Kent\, WA\, 98035\, United States
CATEGORIES:DAWN
END:VEVENT
BEGIN:VEVENT
DTSTART;TZID=America/Los_Angeles:20250826T170000
DTEND;TZID=America/Los_Angeles:20250826T180000
DTSTAMP:20260425T210724
CREATED:20250825T212330Z
LAST-MODIFIED:20250904T192304Z
UID:256798-1756227600-1756231200@dawnrising.org
SUMMARY:DAWN Tour
DESCRIPTION:A Vision for Peace and Safety is a free 1-hour interactive tour and presentation where you will learn how to help families and individuals facing domestic violence to move from danger to safety and thrive. Light refreshments & beverages served. \nMake a reservation: Call 206-469-9510 or email development@dawnrising.org \nLocation: DAWN Center for Peaceful Communities 221 W. Gowe Street\, Kent\, WA 98032 \nAdditional Upcoming Dates\nSept 23\, 5pm\nOct 28\, 5pm\nNov 20\, 5pm\nDec 11\, 10am\nJan 27\, 5pm
URL:https://dawnrising.org/event-calendar/dawn-tour/
LOCATION:DAWN\, 221 W Gowe Street\, Kent\, WA\, 98035\, United States
CATEGORIES:DAWN
END:VEVENT
END:VCALENDAR